ENVI
description = { /dados/queimada/area_queimada/focos/2010_12_modis_grd_focos.bin}
samples = 5000
lines = 6300
bands = 1
header offset = 0
file type = ENVI Standard
data type = 12
interleave = bsq
byte order = 0
map info = {Geographic Lat/Lon, 1, 1, -83.005, 13.005, 0.01, 0.01,WGS-84}
coordinate system string = {GEOGCS["GCS_WGS_1984",DATUM["D_WGS_1984",SPHEROID["WGS_1984",6378137.0,298.257223563]],PRIMEM["Greenwich",0.0],UNIT["Degree",0.0174532925199433]]}
band names = { Band 1}
