<PAMDataset>
  <SRS>PROJCS["WGS 84 / UTM zone 21S",GEOGCS["WGS 84",DATUM["WGS_1984",SPHEROID["WGS 84",6378137,298.257223563,AUTHORITY["EPSG","7030"]],AUTHORITY["EPSG","6326"]],PRIMEM["Greenwich",0],UNIT["degree",0.0174532925199433],AUTHORITY["EPSG","4326"]],PROJECTION["Transverse_Mercator"],PARAMETER["latitude_of_origin",0],PARAMETER["central_meridian",-57],PARAMETER["scale_factor",0.9996],PARAMETER["false_easting",500000],PARAMETER["false_northing",10000000],UNIT["metre",1,AUTHORITY["EPSG","9001"]],AUTHORITY["EPSG","32721"]]</SRS>
  <GeoTransform>  6.1649000000000000e+05,  3.0030150753768845e+02,  0.0000000000000000e+00,  6.7495600000000000e+06,  0.0000000000000000e+00, -3.0012857142857143e+02</GeoTransform>
  <Metadata>
    <MDI key="NODATA_VALUES">0 0 0</MDI>
  </Metadata>
  <Metadata domain="IMAGE_STRUCTURE">
    <MDI key="INTERLEAVE">PIXEL</MDI>
  </Metadata>
</PAMDataset>
